0.0500432710604440040
0.0
0.0
-0.0500432710604440040
-26.61023564055218
75.48334013650451
